BEGIN:VCALENDAR
CALSCALE:GREGORIAN
METHOD:PUBLISH
X-WR-TIMEZONE:Europe/Paris
PRODID:-//TEOOLA PRO//EVENT//FR
VERSION:2.0
BEGIN:VTIMEZONE
TZID:Europe/Paris
LAST-MODIFIED:66460421T174550Z
TZURL:http://tzurl.org/zoneinfo-outlook/Europe/Paris
X-LIC-LOCATION:Europe/Paris
BEGIN:DAYLIGHT
TZNAME:CEST
TZOFFSETFROM:+0100
TZOFFSETTO:+0200
DTSTART:19700329T020000
RRULE:FREQ=YEARLY;BYMONTH=3;BYDAY=-1SU
END:DAYLIGHT
BEGIN:STANDARD
TZNAME:CET
TZOFFSETFROM:+0200
TZOFFSETTO:+0100
DTSTART:19701025T030000
RRULE:FREQ=YEARLY;BYMONTH=10;BYDAY=-1SU
END:STANDARD
END:VTIMEZONE
BEGIN:VEVENT
CATEGORIES:EVENT
DESCRIPTION:Événement organisé par Pulse Béziers Méditerranée.\n--------------------------------------------------------\n--------------------------------------------------------\nSalle de conférence\n--------------------------------------------------------\nConsultez votre application !teoola pour plus d'informations...
LOCATION:Palais des Congrès \nhttps://teoola.com/!palaisdescong
STATUS:CONFIRMED
SUMMARY:Conférence "Financement des entreprises" - Féria des Entrepreneurs 2025
DTEND;TZID=Europe/Paris:20250513T093000
DTSTART;TZID=Europe/Paris:20250513T083000
ORGANIZER;CN=Pulse Béziers Méditerranée:mailto:contact@pulse-beziers.fr
UID:evt.beziersetco.4555@teoola.com
CREATED:20250424T165726
DTSTAMP:20260421T141231
LAST-MODIFIED:20250424T165726
END:VEVENT
END:VCALENDAR
